BEGIN:VCALENDAR
PRODID:-//Google Inc//Google Calendar 70.9054//EN
VERSION:2.0
CALSCALE:GREGORIAN
METHOD:REQUEST
BEGIN:VTIMEZONE
TZID:Europe/London
X-LIC-LOCATION:Europe/London
BEGIN:DAYLIGHT
TZOFFSETFROM:+0000
TZOFFSETTO:+0100
TZNAME:BST
DTSTART:19700329T010000
RRULE:FREQ=YEARLY;BYMONTH=3;BYDAY=-1SU
END:DAYLIGHT
BEGIN:STANDARD
TZOFFSETFROM:+0100
TZOFFSETTO:+0000
TZNAME:GMT
DTSTART:19701025T020000
RRULE:FREQ=YEARLY;BYMONTH=10;BYDAY=-1SU
END:STANDARD
END:VTIMEZONE
BEGIN:VEVENT
DTSTART;TZID=Europe/London:20220524T150000
DTEND;TZID=Europe/London:20220524T160000
DTSTAMP:20220524T141651Z
ORGANIZER;CN=Bill Fletcher:mailto:bill.fletcher@linaro.org
UID:5efm536isag02cbvkuftgm7i7m_R20220517T140000@google.com
ATTENDEE;CUTYPE=INDIVIDUAL;ROLE=REQ-PARTICIPANT;PARTSTAT=DECLINED;RSVP=TRUE
 ;CN=Anmar Oueja;X-NUM-GUESTS=0:mailto:anmar.oueja@linaro.org
ATTENDEE;CUTYPE=INDIVIDUAL;ROLE=REQ-PARTICIPANT;PARTSTAT=ACCEPTED;RSVP=TRUE
 ;CN=Bill Fletcher;X-NUM-GUESTS=0:mailto:bill.fletcher@linaro.org
ATTENDEE;CUTYPE=INDIVIDUAL;ROLE=REQ-PARTICIPANT;PARTSTAT=NEEDS-ACTION;RSVP=
 TRUE;CN=mark.hicken@arm.com;X-NUM-GUESTS=0:mailto:mark.hicken@arm.com
ATTENDEE;CUTYPE=INDIVIDUAL;ROLE=REQ-PARTICIPANT;PARTSTAT=DECLINED;RSVP=TRUE
 ;CN=Reed Hinkel;X-NUM-GUESTS=0:mailto:reed.hinkel@arm.com
ATTENDEE;CUTYPE=INDIVIDUAL;ROLE=REQ-PARTICIPANT;PARTSTAT=ACCEPTED;RSVP=TRUE
 ;CN=Laurent MEUNIER;X-NUM-GUESTS=0:mailto:laurent.meunier@st.com
ATTENDEE;CUTYPE=INDIVIDUAL;ROLE=REQ-PARTICIPANT;PARTSTAT=ACCEPTED;RSVP=TRUE
 ;CN=Daniel Brondani;X-NUM-GUESTS=0:mailto:daniel.brondani@arm.com
ATTENDEE;CUTYPE=INDIVIDUAL;ROLE=REQ-PARTICIPANT;PARTSTAT=TENTATIVE;RSVP=TRU
 E;CN=Bartek Szatkowski;X-NUM-GUESTS=0:mailto:bartek.szatkowski@arm.com
ATTENDEE;CUTYPE=INDIVIDUAL;ROLE=REQ-PARTICIPANT;PARTSTAT=TENTATIVE;RSVP=TRU
 E;CN=Marcelo Salazar;X-NUM-GUESTS=0:mailto:marcelo.salazar@arm.com
ATTENDEE;CUTYPE=INDIVIDUAL;ROLE=REQ-PARTICIPANT;PARTSTAT=ACCEPTED;RSVP=TRUE
 ;CN=Jonatan Antoni;X-NUM-GUESTS=0:mailto:jonatan.antoni@arm.com
ATTENDEE;CUTYPE=INDIVIDUAL;ROLE=REQ-PARTICIPANT;PARTSTAT=ACCEPTED;RSVP=TRUE
 ;CN=Abhishek Pandit;X-NUM-GUESTS=0:mailto:abhishek.pandit@arm.com
ATTENDEE;CUTYPE=INDIVIDUAL;ROLE=REQ-PARTICIPANT;PARTSTAT=ACCEPTED;RSVP=TRUE
 ;CN=Charles Oliveira;X-NUM-GUESTS=0:mailto:charles.oliveira@linaro.org
ATTENDEE;CUTYPE=INDIVIDUAL;ROLE=REQ-PARTICIPANT;PARTSTAT=ACCEPTED;RSVP=TRUE
 ;CN=Joachim Krech;X-NUM-GUESTS=0:mailto:joachim.krech@arm.com
ATTENDEE;CUTYPE=INDIVIDUAL;ROLE=REQ-PARTICIPANT;PARTSTAT=TENTATIVE;RSVP=TRU
 E;CN=Graham Hammond;X-NUM-GUESTS=0:mailto:graham.hammond@arm.com
ATTENDEE;CUTYPE=INDIVIDUAL;ROLE=REQ-PARTICIPANT;PARTSTAT=DECLINED;RSVP=TRUE
 ;CN=Mark Goodchild;X-NUM-GUESTS=0:mailto:mark.goodchild@renesas.com
ATTENDEE;CUTYPE=INDIVIDUAL;ROLE=REQ-PARTICIPANT;PARTSTAT=NEEDS-ACTION;RSVP=
 TRUE;CN=mgoodner@microsoft.com;X-NUM-GUESTS=0:mailto:mgoodner@microsoft.com
ATTENDEE;CUTYPE=INDIVIDUAL;ROLE=REQ-PARTICIPANT;PARTSTAT=ACCEPTED;RSVP=TRUE
 ;CN=Reinhard Keil;X-NUM-GUESTS=0:mailto:reinhard.keil@arm.com
ATTENDEE;CUTYPE=INDIVIDUAL;ROLE=REQ-PARTICIPANT;PARTSTAT=TENTATIVE;RSVP=TRU
 E;CN=Jaeden Amero;X-NUM-GUESTS=0:mailto:jaeden.amero@arm.com
ATTENDEE;CUTYPE=INDIVIDUAL;ROLE=REQ-PARTICIPANT;PARTSTAT=DECLINED;RSVP=TRUE
 ;CN=Evelyne Donnaes;X-NUM-GUESTS=0:mailto:evelyne.donnaes@arm.com
ATTENDEE;CUTYPE=INDIVIDUAL;ROLE=REQ-PARTICIPANT;PARTSTAT=TENTATIVE;RSVP=TRU
 E;CN=Mark Edgeworth;X-NUM-GUESTS=0:mailto:mark.edgeworth@arm.com
ATTENDEE;CUTYPE=INDIVIDUAL;ROLE=REQ-PARTICIPANT;PARTSTAT=ACCEPTED;RSVP=TRUE
 ;CN=evgueni.driouk@arm.com;X-NUM-GUESTS=0:mailto:evgueni.driouk@arm.com
ATTENDEE;CUTYPE=INDIVIDUAL;ROLE=REQ-PARTICIPANT;PARTSTAT=TENTATIVE;RSVP=TRU
 E;CN=Rob Moran;X-NUM-GUESTS=0:mailto:rob.moran@arm.com
ATTENDEE;CUTYPE=INDIVIDUAL;ROLE=REQ-PARTICIPANT;PARTSTAT=NEEDS-ACTION;RSVP=
 TRUE;CN=john.penn@arm.com;X-NUM-GUESTS=0:mailto:john.penn@arm.com
ATTENDEE;CUTYPE=INDIVIDUAL;ROLE=REQ-PARTICIPANT;PARTSTAT=ACCEPTED;RSVP=TRUE
 ;CN=Wen Chou;X-NUM-GUESTS=0:mailto:wen.chou@arm.com
ATTENDEE;CUTYPE=INDIVIDUAL;ROLE=REQ-PARTICIPANT;PARTSTAT=ACCEPTED;RSVP=TRUE
 ;CN=luis.tonicha@linaro.org;X-NUM-GUESTS=0:mailto:luis.tonicha@linaro.org
ATTENDEE;CUTYPE=INDIVIDUAL;ROLE=REQ-PARTICIPANT;PARTSTAT=TENTATIVE;RSVP=TRU
 E;CN=Mathias Brossard;X-NUM-GUESTS=0:mailto:mathias.brossard@arm.com
ATTENDEE;CUTYPE=INDIVIDUAL;ROLE=REQ-PARTICIPANT;PARTSTAT=TENTATIVE;RSVP=TRU
 E;CN=Matthew Gordon;X-NUM-GUESTS=0:mailto:matthew.gordon@arm.com
ATTENDEE;CUTYPE=INDIVIDUAL;ROLE=REQ-PARTICIPANT;PARTSTAT=TENTATIVE;RSVP=TRU
 E;CN=Chris Reed;X-NUM-GUESTS=0:mailto:chris.reed@arm.com
ATTENDEE;CUTYPE=INDIVIDUAL;ROLE=REQ-PARTICIPANT;PARTSTAT=ACCEPTED;RSVP=TRUE
 ;CN=open-cmsis-pack-dev@op-lists.linaro.org;X-NUM-GUESTS=0:mailto:open-cmsi
 s-pack-dev@op-lists.linaro.org
ATTENDEE;CUTYPE=INDIVIDUAL;ROLE=REQ-PARTICIPANT;PARTSTAT=DECLINED;RSVP=TRUE
 ;X-NUM-GUESTS=0:mailto:stanislav.poboril@nxp.com
ATTENDEE;CUTYPE=INDIVIDUAL;ROLE=REQ-PARTICIPANT;PARTSTAT=ACCEPTED;RSVP=TRUE
 ;CN=Tarek BOCHKATI;X-NUM-GUESTS=0:mailto:tarek.bouchkati@st.com
ATTENDEE;CUTYPE=INDIVIDUAL;ROLE=REQ-PARTICIPANT;PARTSTAT=TENTATIVE;RSVP=TRU
 E;CN=Petr Hradsky;X-NUM-GUESTS=0:mailto:petr.hradsky@nxp.com
ATTENDEE;CUTYPE=INDIVIDUAL;ROLE=REQ-PARTICIPANT;PARTSTAT=DECLINED;RSVP=TRUE
 ;CN=David Jurajda;X-NUM-GUESTS=0:mailto:david.jurajda@nxp.com
ATTENDEE;CUTYPE=INDIVIDUAL;ROLE=REQ-PARTICIPANT;PARTSTAT=ACCEPTED;RSVP=TRUE
 ;CN=Holt Sun;X-NUM-GUESTS=0:mailto:holt.sun@nxp.com
ATTENDEE;CUTYPE=INDIVIDUAL;ROLE=REQ-PARTICIPANT;PARTSTAT=ACCEPTED;RSVP=TRUE
 ;CN=Kyle Dando;X-NUM-GUESTS=0:mailto:kyle.dando@nxp.com
X-MICROSOFT-CDO-OWNERAPPTID:2093401583
RECURRENCE-ID;TZID=Europe/London:20220524T150000
CREATED:20210604T145305Z
DESCRIPTION:Moved to Teams - this call only<br><br>Teams link&nbsp\;<a href
 ="https://teams.microsoft.com/l/meetup-join/19%3ameeting_NWYxMGQ5ZDgtYzdjNS
 00MmUyLWI0MWMtYzU1NTAzMjQzMDRh%40thread.v2/0?context=%7b%22Tid%22%3a%22f34e
 5979-57d9-4aaa-ad4d-b122a662184d%22%2c%22Oid%22%3a%226c90bbe8-e19a-475d-8c2
 c-8397cc371543%22%7d" id="ow3002" __is_owner="true"><u>https://teams.micros
 oft.com/l/meetup-join/19%3ameeting_NWYxMGQ5ZDgtYzdjNS00MmUyLWI0MWMtYzU1NTAz
 MjQzMDRh%40thread.v2/0?context=%7b%22Tid%22%3a%22f34e5979-57d9-4aaa-ad4d-b1
 22a662184d%22%2c%22Oid%22%3a%226c90bbe8-e19a-475d-8c2c-8397cc371543%22%7d</
 u></a>\n\n-::~:~::~:~:~:~:~:~:~:~:~:~:~:~:~:~:~:~:~:~:~:~:~:~:~:~:~:~:~:~:~
 :~:~:~:~:~:~:~::~:~::-\nDo not edit this section of the description.\n\nVie
 w your event at https://calendar.google.com/calendar/event?action=VIEW&eid=
 NWVmbTUzNmlzYWcwMmNidmt1ZnRnbTdpN21fMjAyMjA1MjRUMTQwMDAwWiBvcGVuLWNtc2lzLXB
 hY2stZGV2QG9wLWxpc3RzLmxpbmFyby5vcmc&tok=MjQjYmlsbC5mbGV0Y2hlckBsaW5hcm8ub3
 JnNWIwNjBhZTZhMTk2MTRjMjQzNDUwNTQ5MmIzYjFkYWRiZTc4MzcyMg&ctz=Europe%2FLondo
 n&hl=en_GB&es=0.\n-::~:~::~:~:~:~:~:~:~:~:~:~:~:~:~:~:~:~:~:~:~:~:~:~:~:~:~
 :~:~:~:~:~:~:~:~:~:~:~::~:~::-
LAST-MODIFIED:20220524T141650Z
LOCATION:
SEQUENCE:0
STATUS:CONFIRMED
SUMMARY:Open-CMSIS-Pack WG Meeting
TRANSP:OPAQUE
END:VEVENT
END:VCALENDAR
